BEGIN:VCALENDAR
VERSION:2.0
PRODID:-//wp-events-plugin.com//7.2.3.1//EN
TZID:Europe/Berlin
X-WR-TIMEZONE:Europe/Berlin
BEGIN:VEVENT
UID:31@patriciasiebert.de
DTSTART;TZID=Europe/Berlin:20260103T110000
DTEND;TZID=Europe/Berlin:20260104T170000
DTSTAMP:20250904T120757Z
URL:https://www.patriciasiebert.de/termin/heil-und-inspirationsraum-fuer-f
 rauen-2/
SUMMARY:Heil- und Inspirationsraum für Frauen
DESCRIPTION:\n\nIm geschützten Frauenkreis entsteht Raum für Loslassen un
 d authentische und heilsame Begegnung.\n\nMeditationen\, Tanz und kreative
 r Ausdruck ermutigen Dich\, Deinen einzigartigen Ausdruck zu würdigen und
  mit Kraft Deinen unverwechselbaren Weg zu gehen.
LOCATION:Alte Wassermühle Friedland\, Leinestr. 10\, Friedland\, 37133\, D
 eutschland
X-APPLE-STRUCTURED-LOCATION;VALUE=URI;X-ADDRESS=Leinestr. 10\, Friedland\, 
 37133\, Deutschland;X-APPLE-RADIUS=100;X-TITLE=Alte Wassermühle Friedland
 :geo:0,0
END:VEVENT
BEGIN:VTIMEZONE
TZID:Europe/Berlin
X-LIC-LOCATION:Europe/Berlin
BEGIN:STANDARD
DTSTART:20251026T020000
TZOFFSETFROM:+0200
TZOFFSETTO:+0100
TZNAME:CET
END:STANDARD
END:VTIMEZONE
END:VCALENDAR