BEGIN:VCALENDAR
VERSION:2.0
PRODID:-//wp-events-plugin.com//7.2.3.1//EN
TZID:Europe/Berlin
X-WR-TIMEZONE:Europe/Berlin
BEGIN:VEVENT
UID:27@patriciasiebert.de
DTSTART;TZID=Europe/Berlin:20251018T110000
DTEND;TZID=Europe/Berlin:20251019T170000
DTSTAMP:20250903T131319Z
URL:https://www.patriciasiebert.de/termin/heil-und-inspirationsraum-fuer-f
 rauen/
SUMMARY:Heil- und Inspirationsraum für Frauen
DESCRIPTION:\n\nHeimkehr - Mut zu mir selbst\n\nDie Qualität des Herbstes 
 läd uns ein\, innezuhalten. Die Natur zieht sich zurück\, die Blätter f
 allen und die Tage werden stiller.\n\nEine Zeit\, die uns erinnert\, ebenf
 alls nach innen zu lauschen\, vermehrt bei uns einzukehren ... heimzukehre
 n.\n\nIm geschützten Frauenkreis entsteht Raum für Loslassen und authent
 ische und heilsame Begegnung. Meditationen\, Tanz und kreativer Ausdruck e
 rmutigen Dich\, Deinen einzigartigen Ausdruck zu würdigen und mit Kraft D
 einen unverwechselbaren Weg zu gehen.
LOCATION:Alte Wassermühle Friedland\, Leinestr. 10\, Friedland\, 37133\, D
 eutschland
X-APPLE-STRUCTURED-LOCATION;VALUE=URI;X-ADDRESS=Leinestr. 10\, Friedland\, 
 37133\, Deutschland;X-APPLE-RADIUS=100;X-TITLE=Alte Wassermühle Friedland
 :geo:0,0
END:VEVENT
BEGIN:VTIMEZONE
TZID:Europe/Berlin
X-LIC-LOCATION:Europe/Berlin
BEGIN:DAYLIGHT
DTSTART:20250330T030000
TZOFFSETFROM:+0100
TZOFFSETTO:+0200
TZNAME:CEST
END:DAYLIGHT
END:VTIMEZONE
END:VCALENDAR