BEGIN:VCALENDAR
VERSION:2.0
PRODID:-//wp-events-plugin.com//7.2.3.1//EN
TZID:Europe/Berlin
X-WR-TIMEZONE:Europe/Berlin
BEGIN:VEVENT
UID:19@patriciasiebert.de
DTSTART;TZID=Europe/Berlin:20221112T100000
DTEND;TZID=Europe/Berlin:20221112T170000
DTSTAMP:20250725T163200Z
URL:https://www.patriciasiebert.de/termin/heilerinnenwerkstatt-4/
SUMMARY:Heilerinnenwerkstatt
DESCRIPTION:Genius und Heilung kommen direkt aus der Quelle\nMöchtest du t
 anzen\, malen\, singen?\nKreativ und schöpferisch im Frauenkreis Ausdruck
  und Freude finden?\nDer Lust der Seele nach Gestaltung folgen und dabei i
 mmer wieder innehalten und den zarten Impulsen in uns lauschen?\n\nMit die
 sem mehrteiligen  Kursangebot eröffnen wir einen kontinuierlichen und  
 weiten Erfahrungsraum\, der sowohl die Möglichkeit bietet\, die eigene Kr
 eativität auszuloten und zu erweitern\, als auch den Zugang zur inneren S
 tille und Spiritualität vertieft. Stärkende und ausgleichende Elemente a
 us dem Qi Gong\, Selbstheilungsübungen\, Phantasiereisen\, Naturerfahrung
 en\, Meditationen und vieles mehr runden dieses Angebot ab.\n\nAtelier\, G
 arten\, Tanzräume\, Bach\, Frauenheilraum\, Zauberwiese\, Privatstrand\, 
 Feuerstelle\, Stille-Ecken und eine fröhlich-spritzige Frauengemeinschaft
  warten auf Euch.
CATEGORIES:Seminar/Workshop
LOCATION:Alte Wassermühle Friedland\, Leinestr. 10\, Friedland\, 37133\, D
 eutschland
X-APPLE-STRUCTURED-LOCATION;VALUE=URI;X-ADDRESS=Leinestr. 10\, Friedland\, 
 37133\, Deutschland;X-APPLE-RADIUS=100;X-TITLE=Alte Wassermühle Friedland
 :geo:0,0
END:VEVENT
BEGIN:VTIMEZONE
TZID:Europe/Berlin
X-LIC-LOCATION:Europe/Berlin
BEGIN:STANDARD
DTSTART:20221030T020000
TZOFFSETFROM:+0200
TZOFFSETTO:+0100
TZNAME:CET
END:STANDARD
END:VTIMEZONE
END:VCALENDAR