BEGIN:VCALENDAR
VERSION:2.0
PRODID:-//wp-events-plugin.com//7.2.3.1//EN
TZID:Europe/Berlin
X-WR-TIMEZONE:Europe/Berlin
BEGIN:VEVENT
UID:20@patriciasiebert.de
DTSTART;TZID=Europe/Berlin;VALUE=DATE:20251103
DTEND;TZID=Europe/Berlin;VALUE=DATE:20251108
DTSTAMP:20250725T092016Z
URL:https://www.patriciasiebert.de/termin/kraft-und-wandel-ein-bildungsurl
 aub-fuer-frauen-in-der-lebensmitte-4/
SUMMARY:Kraft und Wandel – Ein Bildungsurlaub für Frauen in der Lebensmi
 tte
DESCRIPTION:Die Mitte des Lebens erleben viele Frauen als Zeit des Umbruchs
  und der Neuorientierung. Alle Ebenen des Seins: die körperliche\, geisti
 ge\, seelische und soziale sind hiervon betroffen und werfen existentielle
  Fragen auf. Eine gute Zeit um inne zu halten\, Erfahrenes und Erreichtes 
 zu würdigen\, Werte zu überprüfen und sich von unnötigem Ballast und h
 inderlichen Konzepten zu befreien. Auf das Wesentliche fokussiert\, entdec
 ken wir neue Kraftquellen und Freiräume\, entwickeln Visionen und finden 
 nachhaltige und stimmige Handlungsimpulse für unser individuelles und ges
 ellschaftliches Leben.\n\nEine abwechslungsreiche und inspirierende Bildun
 gswoche mit lebendigem Austausch\, aber auch genügend Raum für Eigenrefl
 exion und Regeneration\, erwartet uns.\n\nWechseljahre - Klimawandel in K
 örper und Seele (PDF)
CATEGORIES:Bildungsurlaub
LOCATION:VHS Göttingen\, Bahnhofsallee 7\, Göttingen\, 37081\, Deutschlan
 d
X-APPLE-STRUCTURED-LOCATION;VALUE=URI;X-ADDRESS=Bahnhofsallee 7\, Göttinge
 n\, 37081\, Deutschland;X-APPLE-RADIUS=100;X-TITLE=VHS Göttingen:geo:0,0
END:VEVENT
BEGIN:VTIMEZONE
TZID:Europe/Berlin
X-LIC-LOCATION:Europe/Berlin
BEGIN:STANDARD
DTSTART:20251026T020000
TZOFFSETFROM:+0200
TZOFFSETTO:+0100
TZNAME:CET
END:STANDARD
END:VTIMEZONE
END:VCALENDAR