BEGIN:VCALENDAR
VERSION:2.0
PRODID:-//wp-events-plugin.com//7.2.3.1//EN
TZID:Europe/Berlin
X-WR-TIMEZONE:Europe/Berlin
BEGIN:VEVENT
UID:15@patriciasiebert.de
DTSTART;TZID=Europe/Berlin:20211215T190000
DTEND;TZID=Europe/Berlin:20211215T213000
DTSTAMP:20211210T104128Z
URL:https://www.patriciasiebert.de/termin/licht-in-dieser-zeit-ii/
SUMMARY:LICHT IN DIESER ZEIT II
DESCRIPTION:Aufrichtung und die Kraft der Seele\n\nThemen:\n\n 	Die Kraft D
 einer Seele\n 	Der freie geistige Raum\n 	Liebe als vereinenende Kraft\n\n
 Informationen zur Veranstaltung als PDF
CATEGORIES:Seminar/Workshop
LOCATION:Webinar\, Online\, Zoom\, Deutschland
X-APPLE-STRUCTURED-LOCATION;VALUE=URI;X-ADDRESS=Online\, Zoom\, Deutschland
 ;X-APPLE-RADIUS=100;X-TITLE=Webinar:geo:0,0
END:VEVENT
BEGIN:VTIMEZONE
TZID:Europe/Berlin
X-LIC-LOCATION:Europe/Berlin
BEGIN:STANDARD
DTSTART:20211031T020000
TZOFFSETFROM:+0200
TZOFFSETTO:+0100
TZNAME:CET
END:STANDARD
END:VTIMEZONE
END:VCALENDAR