BEGIN:VCALENDAR
VERSION:2.0
PRODID:-//wp-events-plugin.com//7.2.3.1//EN
TZID:Europe/Berlin
X-WR-TIMEZONE:Europe/Berlin
BEGIN:VEVENT
UID:28@patriciasiebert.de
DTSTART;TZID=Europe/Berlin:20251206T110000
DTEND;TZID=Europe/Berlin:20251206T170000
DTSTAMP:20250904T101307Z
URL:https://www.patriciasiebert.de/termin/mal-workshop/
SUMMARY:Mal-Workshop
DESCRIPTION:&nbsp\;\n\nEin Mal-Workshop zum sinnlich-kreativen Eintauchen i
 n die Welt der Acrylmalerei!\n\nEinfach mal ausprobieren und mutig sein ..
 . es sind keine Vorkenntnisse erforderlich. Auf Enteckungsreise gehen wir 
 mit keinen\, spielerischen Übungen zur INtuitiven Malerei und einer Medit
 ation in die innere Welt der Farben.\n\nIch freue mich auf einen bunten Ta
 g\, voller Farbe\, Inspiration und der Lust\, etwas Neues auszuprobieren.\
 n\nUnd auf Dich :-)))
LOCATION:Alte Wassermühle Friedland\, Leinestr. 10\, Friedland\, 37133\, D
 eutschland
X-APPLE-STRUCTURED-LOCATION;VALUE=URI;X-ADDRESS=Leinestr. 10\, Friedland\, 
 37133\, Deutschland;X-APPLE-RADIUS=100;X-TITLE=Alte Wassermühle Friedland
 :geo:0,0
END:VEVENT
BEGIN:VTIMEZONE
TZID:Europe/Berlin
X-LIC-LOCATION:Europe/Berlin
BEGIN:STANDARD
DTSTART:20251026T020000
TZOFFSETFROM:+0200
TZOFFSETTO:+0100
TZNAME:CET
END:STANDARD
END:VTIMEZONE
END:VCALENDAR