BEGIN:VCALENDAR
VERSION:2.0
PRODID:-//wp-events-plugin.com//7.2.3.1//EN
TZID:Europe/Berlin
X-WR-TIMEZONE:Europe/Berlin
BEGIN:VEVENT
UID:21@patriciasiebert.de
DTSTART;TZID=Europe/Berlin:20250929T190000
DTEND;TZID=Europe/Berlin:20250929T211500
DTSTAMP:20250903T094024Z
URL:https://www.patriciasiebert.de/termin/tanz-der-hormone/
SUMMARY:Tanz der Hormone
DESCRIPTION:Ein Vortrag für Frauen in der Lebensmitte\n\n&nbsp\;\n\nDieser
  Vortrag richtet sich an Frauen in der Lebensmitte\, die die Vorgänge in 
 ihrem Körper besser verstehen lernen wollen\, und gibt naturheilkundliche
  Tipps für einen sinnvollen und konstruktiven Umgang mit den Herausforder
 ungen und Chancen dieser Zeit. Es besteht die Möglichkeit zum gemeinsamen
  Austausch.
LOCATION:VHS Göttingen\, Bahnhofsallee 7\, Göttingen\, 37081\, Deutschlan
 d
X-APPLE-STRUCTURED-LOCATION;VALUE=URI;X-ADDRESS=Bahnhofsallee 7\, Göttinge
 n\, 37081\, Deutschland;X-APPLE-RADIUS=100;X-TITLE=VHS Göttingen:geo:0,0
END:VEVENT
BEGIN:VTIMEZONE
TZID:Europe/Berlin
X-LIC-LOCATION:Europe/Berlin
BEGIN:DAYLIGHT
DTSTART:20250330T030000
TZOFFSETFROM:+0100
TZOFFSETTO:+0200
TZNAME:CEST
END:DAYLIGHT
END:VTIMEZONE
END:VCALENDAR