BEGIN:VCALENDAR
VERSION:2.0
PRODID:-//wp-events-plugin.com//7.2.3.1//EN
TZID:Europe/Berlin
X-WR-TIMEZONE:Europe/Berlin
BEGIN:VEVENT
UID:25@patriciasiebert.de
DTSTART;TZID=Europe/Berlin:20250913T140000
DTEND;TZID=Europe/Berlin:20250914T180000
DTSTAMP:20250904T115336Z
URL:https://www.patriciasiebert.de/termin/xiv-offene-ateliers-im-goettinge
 r-land-2/
SUMMARY:XIV. OFFENE ATELIERS im Göttinger Land
DESCRIPTION:Im Rahmen der OFFENEN ATELIERS öffene ich an den ersten beiden
  Septemberwochenenden jeweils in der Zeit zwischen 14h und 18h mein Atelie
 r in der Alten Wassermühle in Friedland. \nFreuen Sie sich auf begleitend
 e Events!\nwww.offeneateliers.net
LOCATION:Alte Wassermühle Friedland\, Leinestr. 10\, Friedland\, 37133\, D
 eutschland
X-APPLE-STRUCTURED-LOCATION;VALUE=URI;X-ADDRESS=Leinestr. 10\, Friedland\, 
 37133\, Deutschland;X-APPLE-RADIUS=100;X-TITLE=Alte Wassermühle Friedland
 :geo:0,0
END:VEVENT
BEGIN:VTIMEZONE
TZID:Europe/Berlin
X-LIC-LOCATION:Europe/Berlin
BEGIN:DAYLIGHT
DTSTART:20250330T030000
TZOFFSETFROM:+0100
TZOFFSETTO:+0200
TZNAME:CEST
END:DAYLIGHT
END:VTIMEZONE
END:VCALENDAR